BEGIN:VCALENDAR
VERSION:2.0
PRODID:-//ChamberMaster//Event Calendar 2.0//EN
METHOD:PUBLISH
X-PUBLISHED-TTL:P1H
REFRESH-INTERVAL:P1H
CALSCALE:GREGORIAN
BEGIN:VTIMEZONE
TZID:America/Los_Angeles
BEGIN:DAYLIGHT
RRULE:FREQ=YEARLY;BYMONTH=3;BYDAY=2SU
DTSTART:20070101T000000
TZOFFSETFROM:-0800
TZOFFSETTO:-0700
TZNAME:Pacific Daylight Time
END:DAYLIGHT
BEGIN:STANDARD
RRULE:FREQ=YEARLY;BYMONTH=11;BYDAY=1SU
DTSTART:20070101T000000
TZOFFSETFROM:-0700
TZOFFSETTO:-0800
TZNAME:Pacific Standard Time
END:STANDARD
END:VTIMEZONE
BEGIN:VEVENT
DTSTART;TZID=America/Los_Angeles:20260922T130000
DTEND;TZID=America/Los_Angeles:20260922T140000
X-MICROSOFT-CDO-ALLDAYEVENT:FALSE
SUMMARY:Stand Out: 10 Ways to Differentiate Your Business
DESCRIPTION:If customers can’t clearly see why you’re different\, they’ll choose based on price. This workshop walks through practical ways to stand out in a crowded market and build a stronger competitive position.\n\nYou’ll learn:\n\nWhat differentiation really means (and what it doesn’t)\n10 practical ways to stand out from competitors\nHow to communicate your unique value more clearly
X-ALT-DESC;FMTTYPE=text/html:If customers can’t clearly see why you’re different\, they’ll choose based on price. This workshop walks through practical ways to stand out in a crowded market and build a stronger competitive position.\n\nYou’ll learn:\n\nWhat differentiation really means (and what it doesn’t)\n10 practical ways to stand out from competitors\nHow to communicate your unique value more clearly
LOCATION:1000 SE Regatta Dr. Oak Harbor 98277-3091
UID:e.1518.1444514
SEQUENCE:3
DTSTAMP:20260419T211423Z
URL:https://economicdevelopmentcouncilforislandcounty.growthzoneapp.com/event-calendar/Details/stand-out-10-ways-to-differentiate-your-business-1710890?sourceTypeId=Hub
END:VEVENT
END:VCALENDAR
