BEGIN:VCALENDAR
VERSION:2.0
PRODID:-//ChamberMaster//Event Calendar 2.0//EN
METHOD:PUBLISH
X-PUBLISHED-TTL:P1H
REFRESH-INTERVAL:P1H
CALSCALE:GREGORIAN
BEGIN:VTIMEZONE
TZID:America/Los_Angeles
BEGIN:DAYLIGHT
RRULE:FREQ=YEARLY;BYMONTH=3;BYDAY=2SU
DTSTART:20070101T000000
TZOFFSETFROM:-0800
TZOFFSETTO:-0700
TZNAME:Pacific Daylight Time
END:DAYLIGHT
BEGIN:STANDARD
RRULE:FREQ=YEARLY;BYMONTH=11;BYDAY=1SU
DTSTART:20070101T000000
TZOFFSETFROM:-0700
TZOFFSETTO:-0800
TZNAME:Pacific Standard Time
END:STANDARD
END:VTIMEZONE
BEGIN:VEVENT
DTSTART;TZID=America/Los_Angeles:20260729T130000
DTEND;TZID=America/Los_Angeles:20260729T140000
X-MICROSOFT-CDO-ALLDAYEVENT:FALSE
SUMMARY:Know Your Numbers: Mid-Year Financial Tune-Up
DESCRIPTION:Mid-year is the perfect time to check in on your finances and make smart adjustments. This workshop will help you understand your numbers\, improve cash flow\, and make more informed business decisions.\n\nNo accounting background required -- just practical guidance tailored for small business owners.\n\nYou’ll learn:\n\nKey financial metrics every business should track\nHow to improve profitability and pricing\nSimple ways to manage cash flow
X-ALT-DESC;FMTTYPE=text/html:Mid-year is the perfect time to check in on your finances and make smart adjustments. This workshop will help you understand your numbers\, improve cash flow\, and make more informed business decisions.\n\nNo accounting background required -- just practical guidance tailored for small business owners.\n\nYou’ll learn:\n\nKey financial metrics every business should track\nHow to improve profitability and pricing\nSimple ways to manage cash flow
LOCATION:1000 SE Regatta Dr. Oak Harbor 98277-3091
UID:e.1518.1444507
SEQUENCE:3
DTSTAMP:20260419T211347Z
URL:https://economicdevelopmentcouncilforislandcounty.growthzoneapp.com/event-calendar/Details/know-your-numbers-mid-year-financial-tune-up-1710883?sourceTypeId=Hub
END:VEVENT
END:VCALENDAR
