BEGIN:VCALENDAR
VERSION:2.0
PRODID:-//ChamberMaster//Event Calendar 2.0//EN
METHOD:PUBLISH
X-PUBLISHED-TTL:P1H
REFRESH-INTERVAL:P1H
CALSCALE:GREGORIAN
BEGIN:VTIMEZONE
TZID:America/Los_Angeles
BEGIN:DAYLIGHT
RRULE:FREQ=YEARLY;BYMONTH=3;BYDAY=2SU
DTSTART:20070101T000000
TZOFFSETFROM:-0800
TZOFFSETTO:-0700
TZNAME:Pacific Daylight Time
END:DAYLIGHT
BEGIN:STANDARD
RRULE:FREQ=YEARLY;BYMONTH=11;BYDAY=1SU
DTSTART:20070101T000000
TZOFFSETFROM:-0700
TZOFFSETTO:-0800
TZNAME:Pacific Standard Time
END:STANDARD
END:VTIMEZONE
BEGIN:VEVENT
DTSTART;TZID=America/Los_Angeles:20261021T130000
DTEND;TZID=America/Los_Angeles:20261021T140000
X-MICROSOFT-CDO-ALLDAYEVENT:FALSE
SUMMARY:Keep Your Best People: 20 Ways to Improve Employee Retention
DESCRIPTION:Hiring is expensive. Losing great employees is even more costly. This session focuses on practical\, realistic ways to retain your team and build a stronger workplace.\n\nYou’ll learn:\n\nWhy employees leave (and how to prevent it)\nSimple ways to improve engagement and loyalty\nRetention strategies beyond just increasing pay
X-ALT-DESC;FMTTYPE=text/html:Hiring is expensive. Losing great employees is even more costly. This session focuses on practical\, realistic ways to retain your team and build a stronger workplace.\n\nYou’ll learn:\n\nWhy employees leave (and how to prevent it)\nSimple ways to improve engagement and loyalty\nRetention strategies beyond just increasing pay
LOCATION:1000 SE Regatta Dr. Oak Harbor 98277-3091
UID:e.1518.1444517
SEQUENCE:3
DTSTAMP:20260419T211737Z
URL:https://economicdevelopmentcouncilforislandcounty.growthzoneapp.com/event-calendar/Details/keep-your-best-people-20-ways-to-improve-employee-retention-1710893?sourceTypeId=Hub
END:VEVENT
END:VCALENDAR
