BEGIN:VCALENDAR
VERSION:2.0
PRODID:-//ChamberMaster//Event Calendar 2.0//EN
METHOD:PUBLISH
X-PUBLISHED-TTL:P1H
REFRESH-INTERVAL:P1H
CALSCALE:GREGORIAN
BEGIN:VTIMEZONE
TZID:America/Los_Angeles
BEGIN:DAYLIGHT
RRULE:FREQ=YEARLY;BYMONTH=3;BYDAY=2SU
DTSTART:20070101T000000
TZOFFSETFROM:-0800
TZOFFSETTO:-0700
TZNAME:Pacific Daylight Time
END:DAYLIGHT
BEGIN:STANDARD
RRULE:FREQ=YEARLY;BYMONTH=11;BYDAY=1SU
DTSTART:20070101T000000
TZOFFSETFROM:-0700
TZOFFSETTO:-0800
TZNAME:Pacific Standard Time
END:STANDARD
END:VTIMEZONE
BEGIN:VEVENT
DTSTART;TZID=America/Los_Angeles:20260519T130000
DTEND;TZID=America/Los_Angeles:20260519T140000
X-MICROSOFT-CDO-ALLDAYEVENT:FALSE
SUMMARY:Hiring in Today’s Market: Find and Win the Right Talent
DESCRIPTION:Hiring looks different than it did just a couple years ago. In this session\, you’ll learn how to compete for talent\, attract the right candidates\, and make smarter hiring decisions in a challenging labor market.\n\nYou’ll learn:\n\nWhere to find qualified candidates today\nHow to position your business to stand out to job seekers\nPractical tips to improve your hiring and selection process
X-ALT-DESC;FMTTYPE=text/html:Hiring looks different than it did just a couple years ago. In this session\, you’ll learn how to compete for talent\, attract the right candidates\, and make smarter hiring decisions in a challenging labor market.\n\nYou’ll learn:\n\nWhere to find qualified candidates today\nHow to position your business to stand out to job seekers\nPractical tips to improve your hiring and selection process
LOCATION:1000 SE Regatta Dr. Oak Harbor 98277-3091
UID:e.1518.1444480
SEQUENCE:3
DTSTAMP:20260419T211850Z
URL:https://economicdevelopmentcouncilforislandcounty.growthzoneapp.com/event-calendar/Details/hiring-in-today-s-market-find-and-win-the-right-talent-1710856?sourceTypeId=Hub
END:VEVENT
END:VCALENDAR
