BEGIN:VCALENDAR
VERSION:2.0
PRODID:-//ChamberMaster//Event Calendar 2.0//EN
METHOD:PUBLISH
X-PUBLISHED-TTL:P1H
REFRESH-INTERVAL:P1H
CALSCALE:GREGORIAN
BEGIN:VTIMEZONE
TZID:America/Los_Angeles
BEGIN:DAYLIGHT
RRULE:FREQ=YEARLY;BYMONTH=3;BYDAY=2SU
DTSTART:20070101T000000
TZOFFSETFROM:-0800
TZOFFSETTO:-0700
TZNAME:Pacific Daylight Time
END:DAYLIGHT
BEGIN:STANDARD
RRULE:FREQ=YEARLY;BYMONTH=11;BYDAY=1SU
DTSTART:20070101T000000
TZOFFSETFROM:-0700
TZOFFSETTO:-0800
TZNAME:Pacific Standard Time
END:STANDARD
END:VTIMEZONE
BEGIN:VEVENT
DTSTART;TZID=America/Los_Angeles:20261117T130000
DTEND;TZID=America/Los_Angeles:20261117T140000
X-MICROSOFT-CDO-ALLDAYEVENT:FALSE
SUMMARY:Getting Funding for Your Business: What Lenders Really Look For
DESCRIPTION:Whether you’re looking to grow\, stabilize\, or invest in new opportunities for 2027\, understanding funding is critical. This workshop breaks down the lending landscape and how to position your business for success.\n\nYou’ll learn:\n\nThe different types of funding available\nHow lenders evaluate risk and make decisions\nHow to prepare a strong application and avoid common pitfalls
X-ALT-DESC;FMTTYPE=text/html:Whether you’re looking to grow\, stabilize\, or invest in new opportunities for 2027\, understanding funding is critical. This workshop breaks down the lending landscape and how to position your business for success.\n\nYou’ll learn:\n\nThe different types of funding available\nHow lenders evaluate risk and make decisions\nHow to prepare a strong application and avoid common pitfalls
LOCATION:1000 SE Regatta Dr. Oak Harbor 98277-3091
UID:e.1518.1444520
SEQUENCE:3
DTSTAMP:20260419T212029Z
URL:https://economicdevelopmentcouncilforislandcounty.growthzoneapp.com/event-calendar/Details/getting-funding-for-your-business-what-lenders-really-look-for-1710896?sourceTypeId=Hub
END:VEVENT
END:VCALENDAR
