BEGIN:VCALENDAR
VERSION:2.0
PRODID:-//ChamberMaster//Event Calendar 2.0//EN
METHOD:PUBLISH
X-PUBLISHED-TTL:P1H
REFRESH-INTERVAL:P1H
CALSCALE:GREGORIAN
BEGIN:VTIMEZONE
TZID:America/Los_Angeles
BEGIN:DAYLIGHT
RRULE:FREQ=YEARLY;BYMONTH=3;BYDAY=2SU
DTSTART:20070101T000000
TZOFFSETFROM:-0800
TZOFFSETTO:-0700
TZNAME:Pacific Daylight Time
END:DAYLIGHT
BEGIN:STANDARD
RRULE:FREQ=YEARLY;BYMONTH=11;BYDAY=1SU
DTSTART:20070101T000000
TZOFFSETFROM:-0700
TZOFFSETTO:-0800
TZNAME:Pacific Standard Time
END:STANDARD
END:VTIMEZONE
BEGIN:VEVENT
DTSTART;TZID=America/Los_Angeles:20260428T130000
DTEND;TZID=America/Los_Angeles:20260428T140000
X-MICROSOFT-CDO-ALLDAYEVENT:FALSE
SUMMARY:Adaptive Leadership: Adapt Your Style\, Improve Every Interaction
DESCRIPTION:Great leaders don’t lead the same way in every situation - they adapt. This workshop will help you understand different communication and social styles so you can lead more effectively across teams\, customers and stakeholders.\n\nYou’ll learn:\n\nHow to identify different personality and communication styles\nHow to flex your approach for better outcomes\nHow to reduce conflict and build stronger working relationships\nYour own leadership style
X-ALT-DESC;FMTTYPE=text/html:Great leaders don’t lead the same way in every situation - they adapt. This workshop will help you understand different communication and social styles so you can lead more effectively across teams\, customers and stakeholders.\n\nYou’ll learn:\n\nHow to identify different personality and communication styles\nHow to flex your approach for better outcomes\nHow to reduce conflict and build stronger working relationships\nYour own leadership style
LOCATION:1000 SE Regatta Dr. Oak Harbor 98277-3091
UID:e.1518.1444374
SEQUENCE:3
DTSTAMP:20260419T211423Z
URL:https://economicdevelopmentcouncilforislandcounty.growthzoneapp.com/event-calendar/Details/adaptive-leadership-adapt-your-style-improve-every-interaction-1710738?sourceTypeId=Hub
END:VEVENT
END:VCALENDAR
