BEGIN:VCALENDAR
VERSION:2.0
PRODID:-//ChamberMaster//Event Calendar 2.0//EN
METHOD:PUBLISH
X-PUBLISHED-TTL:P1H
REFRESH-INTERVAL:P1H
CALSCALE:GREGORIAN
BEGIN:VTIMEZONE
TZID:America/Los_Angeles
BEGIN:DAYLIGHT
RRULE:FREQ=YEARLY;BYMONTH=3;BYDAY=2SU
DTSTART:20070101T000000
TZOFFSETFROM:-0800
TZOFFSETTO:-0700
TZNAME:Pacific Daylight Time
END:DAYLIGHT
BEGIN:STANDARD
RRULE:FREQ=YEARLY;BYMONTH=11;BYDAY=1SU
DTSTART:20070101T000000
TZOFFSETFROM:-0700
TZOFFSETTO:-0800
TZNAME:Pacific Standard Time
END:STANDARD
END:VTIMEZONE
BEGIN:VEVENT
DTSTART;TZID=America/Los_Angeles:20260624T130000
DTEND;TZID=America/Los_Angeles:20260624T140000
X-MICROSOFT-CDO-ALLDAYEVENT:FALSE
SUMMARY:6 Roadblocks to Success (and How to Overcome Them)
DESCRIPTION:What’s really holding your business back? Often\, the biggest barriers to success are internal. This workshop explores the most common roadblocks business owners face - and how to move past them.\n\nYou’ll learn:\n\nThe most common habits and patterns that limit growth\nHow to identify what’s holding you back\nSimple strategies to break through and move forward
X-ALT-DESC;FMTTYPE=text/html:What’s really holding your business back? Often\, the biggest barriers to success are internal. This workshop explores the most common roadblocks business owners face - and how to move past them.\n\nYou’ll learn:\n\nThe most common habits and patterns that limit growth\nHow to identify what’s holding you back\nSimple strategies to break through and move forward
LOCATION:1000 SE Regatta Dr. Oak Harbor 98277-3091
UID:e.1518.1444489
SEQUENCE:3
DTSTAMP:20260419T212029Z
URL:https://economicdevelopmentcouncilforislandcounty.growthzoneapp.com/event-calendar/Details/6-roadblocks-to-success-and-how-to-overcome-them-1710865?sourceTypeId=Hub
END:VEVENT
END:VCALENDAR
